BEGIN:VCALENDAR
VERSION:2.0
PRODID:-//Gun Lake Tourism - ECPv6.15.20//NONSGML v1.0//EN
CALSCALE:GREGORIAN
METHOD:PUBLISH
X-WR-CALNAME:Gun Lake Tourism
X-ORIGINAL-URL:https://gunlaketourism.com
X-WR-CALDESC:Events for Gun Lake Tourism
REFRESH-INTERVAL;VALUE=DURATION:PT1H
X-Robots-Tag:noindex
X-PUBLISHED-TTL:PT1H
BEGIN:VTIMEZONE
TZID:UTC
BEGIN:STANDARD
TZOFFSETFROM:+0000
TZOFFSETTO:+0000
TZNAME:UTC
DTSTART:20240101T000000
END:STANDARD
END:VTIMEZONE
BEGIN:VEVENT
DTSTART;VALUE=DATE:20250705
DTEND;VALUE=DATE:20250902
DTSTAMP:20260422T174722
CREATED:20250325T213742Z
LAST-MODIFIED:20250325T213820Z
UID:1517-1751673600-1756771199@gunlaketourism.com
SUMMARY:Painted Peninsula: Gun Lake Artistry contest
DESCRIPTION:Visit area businesses and common spaces to view entries in this unique community art project featuring painted sculptures of Michigan’s Lower Peninsula. Public voting open July 5–September 1. Don’t miss this creative celebration of community and artistry. \nWinners will be announced at Fall Fest on September 27\, 2025!
URL:https://gunlaketourism.com/event/painted-peninsula-gun-lake-artistry-contest/
END:VEVENT
BEGIN:VEVENT
DTSTART;VALUE=DATE:20250805
DTEND;VALUE=DATE:20250806
DTSTAMP:20260422T174722
CREATED:20250602T160344Z
LAST-MODIFIED:20250602T160344Z
UID:1608-1754352000-1754438399@gunlaketourism.com
SUMMARY:Cars in the Park
DESCRIPTION:
URL:https://gunlaketourism.com/event/cars-in-the-park-10/
LOCATION:Chief Noonday Car Park\, 11899 W M179\, Wayland\, MI\, 49348\, United States
END:VEVENT
BEGIN:VEVENT
DTSTART;VALUE=DATE:20250812
DTEND;VALUE=DATE:20250813
DTSTAMP:20260422T174722
CREATED:20250602T160409Z
LAST-MODIFIED:20250602T160409Z
UID:1610-1754956800-1755043199@gunlaketourism.com
SUMMARY:Cars in the Park
DESCRIPTION:
URL:https://gunlaketourism.com/event/cars-in-the-park-11/
LOCATION:Chief Noonday Car Park\, 11899 W M179\, Wayland\, MI\, 49348\, United States
END:VEVENT
BEGIN:VEVENT
DTSTART;VALUE=DATE:20250819
DTEND;VALUE=DATE:20250820
DTSTAMP:20260422T174722
CREATED:20250602T160429Z
LAST-MODIFIED:20250602T160429Z
UID:1612-1755561600-1755647999@gunlaketourism.com
SUMMARY:Cars in the Park
DESCRIPTION:
URL:https://gunlaketourism.com/event/cars-in-the-park-12/
LOCATION:Chief Noonday Car Park\, 11899 W M179\, Wayland\, MI\, 49348\, United States
END:VEVENT
BEGIN:VEVENT
DTSTART;VALUE=DATE:20250826
DTEND;VALUE=DATE:20250827
DTSTAMP:20260422T174722
CREATED:20250602T160459Z
LAST-MODIFIED:20250602T160459Z
UID:1614-1756166400-1756252799@gunlaketourism.com
SUMMARY:Cars in the Park
DESCRIPTION:
URL:https://gunlaketourism.com/event/cars-in-the-park-13/
LOCATION:Chief Noonday Car Park\, 11899 W M179\, Wayland\, MI\, 49348\, United States
END:VEVENT
END:VCALENDAR