BEGIN:VCALENDAR
VERSION:2.0
PRODID:-//Gun Lake Tourism - ECPv6.15.20//NONSGML v1.0//EN
CALSCALE:GREGORIAN
METHOD:PUBLISH
X-ORIGINAL-URL:https://gunlaketourism.com
X-WR-CALDESC:Events for Gun Lake Tourism
REFRESH-INTERVAL;VALUE=DURATION:PT1H
X-Robots-Tag:noindex
X-PUBLISHED-TTL:PT1H
BEGIN:VTIMEZONE
TZID:UTC
BEGIN:STANDARD
TZOFFSETFROM:+0000
TZOFFSETTO:+0000
TZNAME:UTC
DTSTART:20240101T000000
END:STANDARD
END:VTIMEZONE
BEGIN:VEVENT
DTSTART;TZID=UTC:20250701T080000
DTEND;TZID=UTC:20250701T170000
DTSTAMP:20260422T161227
CREATED:20250602T154003Z
LAST-MODIFIED:20250602T154003Z
UID:1598-1751356800-1751389200@gunlaketourism.com
SUMMARY:Cars in the Park
DESCRIPTION:
URL:https://gunlaketourism.com/event/cars-in-the-park-5/
LOCATION:Chief Noonday Car Park\, 11899 W M179\, Wayland\, MI\, 49348\, United States
END:VEVENT
BEGIN:VEVENT
DTSTART;VALUE=DATE:20250705
DTEND;VALUE=DATE:20250706
DTSTAMP:20260422T161227
CREATED:20250325T213922Z
LAST-MODIFIED:20250325T213922Z
UID:1520-1751673600-1751759999@gunlaketourism.com
SUMMARY:Patriot’s Motorshow and Festival
DESCRIPTION:Hero Services is a nonprofit organization built to help our Veterans\, First Responders\, and Licensed Healthcare Professionals. They are holding a charity event on Saturday\, July 5 at Chief Noonday Car Park to raise funds for their programming. \nEnjoy a day long extravaganza including a car show\, military fly-over\, vendor show and farm market.
URL:https://gunlaketourism.com/event/patriots-motorshow-and-festival/
END:VEVENT
BEGIN:VEVENT
DTSTART;VALUE=DATE:20250705
DTEND;VALUE=DATE:20250902
DTSTAMP:20260422T161227
CREATED:20250325T213742Z
LAST-MODIFIED:20250325T213820Z
UID:1517-1751673600-1756771199@gunlaketourism.com
SUMMARY:Painted Peninsula: Gun Lake Artistry contest
DESCRIPTION:Visit area businesses and common spaces to view entries in this unique community art project featuring painted sculptures of Michigan’s Lower Peninsula. Public voting open July 5–September 1. Don’t miss this creative celebration of community and artistry. \nWinners will be announced at Fall Fest on September 27\, 2025!
URL:https://gunlaketourism.com/event/painted-peninsula-gun-lake-artistry-contest/
END:VEVENT
BEGIN:VEVENT
DTSTART;VALUE=DATE:20250708
DTEND;VALUE=DATE:20250709
DTSTAMP:20260422T161227
CREATED:20250602T154031Z
LAST-MODIFIED:20250602T154031Z
UID:1600-1751932800-1752019199@gunlaketourism.com
SUMMARY:Cars in the Park
DESCRIPTION:
URL:https://gunlaketourism.com/event/cars-in-the-park-6/
LOCATION:Chief Noonday Car Park\, 11899 W M179\, Wayland\, MI\, 49348\, United States
END:VEVENT
BEGIN:VEVENT
DTSTART;VALUE=DATE:20250715
DTEND;VALUE=DATE:20250716
DTSTAMP:20260422T161227
CREATED:20250602T154055Z
LAST-MODIFIED:20250602T154055Z
UID:1602-1752537600-1752623999@gunlaketourism.com
SUMMARY:Cars in the Park
DESCRIPTION:
URL:https://gunlaketourism.com/event/cars-in-the-park-7/
LOCATION:Chief Noonday Car Park\, 11899 W M179\, Wayland\, MI\, 49348\, United States
END:VEVENT
BEGIN:VEVENT
DTSTART;VALUE=DATE:20250722
DTEND;VALUE=DATE:20250723
DTSTAMP:20260422T161227
CREATED:20250602T154118Z
LAST-MODIFIED:20250602T154118Z
UID:1604-1753142400-1753228799@gunlaketourism.com
SUMMARY:Cars in the Park
DESCRIPTION:
URL:https://gunlaketourism.com/event/cars-in-the-park-8/
LOCATION:Chief Noonday Car Park\, 11899 W M179\, Wayland\, MI\, 49348\, United States
END:VEVENT
BEGIN:VEVENT
DTSTART;VALUE=DATE:20250726
DTEND;VALUE=DATE:20250727
DTSTAMP:20260422T161227
CREATED:20250411T210641Z
LAST-MODIFIED:20250411T210728Z
UID:1565-1753488000-1753574399@gunlaketourism.com
SUMMARY:Orangeville Community Outreach Annual Charity Golf Outing
DESCRIPTION:
URL:https://gunlaketourism.com/event/orangeville-community-outreach-annual-charity-golf-outing/
LOCATION:Mellenhurst Golf Course
END:VEVENT
BEGIN:VEVENT
DTSTART;VALUE=DATE:20250729
DTEND;VALUE=DATE:20250730
DTSTAMP:20260422T161227
CREATED:20250602T154141Z
LAST-MODIFIED:20250602T154141Z
UID:1606-1753747200-1753833599@gunlaketourism.com
SUMMARY:Cars in the Park
DESCRIPTION:
URL:https://gunlaketourism.com/event/cars-in-the-park-9/
LOCATION:Chief Noonday Car Park\, 11899 W M179\, Wayland\, MI\, 49348\, United States
END:VEVENT
END:VCALENDAR