BEGIN:VCALENDAR
VERSION:2.0
PRODID:-//Gun Lake Tourism - ECPv6.15.20//NONSGML v1.0//EN
CALSCALE:GREGORIAN
METHOD:PUBLISH
X-ORIGINAL-URL:https://gunlaketourism.com
X-WR-CALDESC:Events for Gun Lake Tourism
REFRESH-INTERVAL;VALUE=DURATION:PT1H
X-Robots-Tag:noindex
X-PUBLISHED-TTL:PT1H
BEGIN:VTIMEZONE
TZID:UTC
BEGIN:STANDARD
TZOFFSETFROM:+0000
TZOFFSETTO:+0000
TZNAME:UTC
DTSTART:20240101T000000
END:STANDARD
END:VTIMEZONE
BEGIN:VEVENT
DTSTART;VALUE=DATE:20250522
DTEND;VALUE=DATE:20250523
DTSTAMP:20260422T142016
CREATED:20250423T160553Z
LAST-MODIFIED:20250423T160553Z
UID:1574-1747872000-1747958399@gunlaketourism.com
SUMMARY:Yankee Springs Market Days
DESCRIPTION:Kick off Thursday\, May 22\, 2025 \nthen every 1st and 3rd Thursday through Labor Day \nVarious times and locations around the lake. For specific locations\, please check \nthe https://www.facebook.com/GunLakeBusinessAssociation page
URL:https://gunlaketourism.com/event/yankee-springs-market-days/
END:VEVENT
BEGIN:VEVENT
DTSTART;TZID=UTC:20250526T110000
DTEND;TZID=UTC:20250526T120000
DTSTAMP:20260422T142016
CREATED:20250411T210418Z
LAST-MODIFIED:20250411T210418Z
UID:1562-1748257200-1748260800@gunlaketourism.com
SUMMARY:Gun Lake Memorial Day Cruise – 6th Annual
DESCRIPTION:
URL:https://gunlaketourism.com/event/gun-lake-memorial-day-cruise-6th-annual/
LOCATION:Gun Lake Community Church\, 12200 M-179\, Wayland\, MI\, 49348
END:VEVENT
BEGIN:VEVENT
DTSTART;TZID=UTC:20250530T140000
DTEND;TZID=UTC:20250530T180000
DTSTAMP:20260422T142016
CREATED:20250414T141830Z
LAST-MODIFIED:20250414T141830Z
UID:1568-1748613600-1748628000@gunlaketourism.com
SUMMARY:Back to Summer Party
DESCRIPTION:
URL:https://gunlaketourism.com/event/back-to-summer-party/
LOCATION:Keller Williams Realty\, 11925 Marsh Rd. Suite C\, Shelbyville\, MI 49344\, 49344\, United States
END:VEVENT
END:VCALENDAR